BEGIN:VCALENDAR
VERSION:2.0
PRODID:-//eventon.com NONSGML v1.0//EN
CALSCALE:GREGORIAN
METHOD:PUBLISH
BEGIN:VEVENT
UID:69e9f475617e3
DTSTAMP:20260423T102909Z
DTSTART:20211202T170000Z
DTEND:20211202T181500Z
LOCATION:
SUMMARY:WEBCLASS: Finding Grace in the Midst of Discomfort
DESCRIPTION:Webclass: Finding Grace in the Midst of Discomfort Grace is the
  capacity to be kind and forgiving towards yourself or another in the midst
  of suffering.  In this webclass\,  we will focus on active compassion and
  forgiveness practices that create resilience and a deeper connection to yo
 ur Spiritual Self. Grace[..]\nhttps://www.hoffmaninstitute.ca/events/webcla
 ss-finding-grace-in-the-midst-of-discomfort-120221/
URL:https://www.hoffmaninstitute.ca/events/webclass-finding-grace-in-the-midst-of-discomfort-120221/
END:VEVENT
END:VCALENDAR