BEGIN:VCALENDAR
VERSION:2.0
PRODID:-//eventon.com NONSGML v1.0//EN
CALSCALE:GREGORIAN
METHOD:PUBLISH
BEGIN:VEVENT
UID:69e9e03d4bd97
DTSTAMP:20260423T090253Z
DTSTART:20210915T170000Z
DTEND:20210915T181500Z
LOCATION:
SUMMARY:WEBCLASS: Mastering Practices
DESCRIPTION:Mastering Practices This interactive webclass will connect you 
 back to the practices of the Process. Using the Cycle of Transformation as 
 the foundation\,  you’ll be led through a series of experiences designed 
 to re-engage you to your Process and deepen your understanding of the pract
 ices. Come prepared with your questions[..]\nhttps://www.hoffmaninstitute.c
 a/events/webclass-mastering-practices-091521/
URL:https://www.hoffmaninstitute.ca/events/webclass-mastering-practices-091521/
END:VEVENT
END:VCALENDAR