BEGIN:VCALENDAR
VERSION:2.0
PRODID:-//eventon.com NONSGML v1.0//EN
CALSCALE:GREGORIAN
METHOD:PUBLISH
BEGIN:VEVENT
UID:69ea14cfdcc03
DTSTAMP:20260423T124711Z
DTSTART:20210819T170000Z
DTEND:20210819T181500Z
LOCATION:
SUMMARY:WEBCLASS: Gratitude as a Pathway to Joy
DESCRIPTION:Gratitude as a Pathway to Joy Research has shown that people wh
 o feel grateful are more optimistic\,  joyful\,  and experience life with d
 eeper satisfaction. In this webclass\,  we’ll explore your relationship w
 ith gratitude\,  what gets in the way\,  and we’ll review some practices 
 to help you bring more of this[..]\nhttps://www.hoffmaninstitute.ca/events/
 webclass-gratitude-as-a-pathway-to-joy-081921/
URL:https://www.hoffmaninstitute.ca/events/webclass-gratitude-as-a-pathway-to-joy-081921/
END:VEVENT
END:VCALENDAR