BEGIN:VCALENDAR
VERSION:2.0
PRODID:-//eventon.com NONSGML v1.0//EN
CALSCALE:GREGORIAN
METHOD:PUBLISH
BEGIN:VEVENT
UID:69e5fed5d8ed3
DTSTAMP:20260420T102421Z
DTSTART:20210304T170000Z
DTEND:20210304T181500Z
LOCATION:
SUMMARY:WEBCLASS: Session 2\,  Parenting with Mindfulness (a two-part series)
DESCRIPTION:Parenting with Mindfulness (a two-part series) In this two-part
  parenting webclass series\,  the first session focuses on awareness and id
 entifying patterns and challenges that sabotage your intentions as a parent
 \,  and taking power from the undermining voice of your Dark Side. In the s
 econd session\,  we'll explore how you can[..]\nhttps://www.hoffmaninstitut
 e.ca/events/webclass-session-2-parenting-with-mindfulness-a-two-part-series
 -030421/
URL:https://www.hoffmaninstitute.ca/events/webclass-session-2-parenting-with-mindfulness-a-two-part-series-030421/
END:VEVENT
END:VCALENDAR