BEGIN:VCALENDAR
VERSION:2.0
PRODID:-//eventon.com NONSGML v1.0//EN
CALSCALE:GREGORIAN
METHOD:PUBLISH
BEGIN:VEVENT
UID:69e9f81117081
DTSTAMP:20260423T104433Z
DTSTART:20201217T170000Z
DTEND:20201217T181500Z
LOCATION:
SUMMARY:WEBCLASS: Graceful Holidays in Challenging Times
DESCRIPTION:Graceful Holidays in Challenging Times: In this webclass\,  we 
 will embrace grace and resilience with practices that deepen our connection
  to our whole Quadrinity. Letting your Spiritual Self be the leader\,  allo
 ws ease in facing difficult times and finding peace.  \nhttps://www.hoffma
 ninstitute.ca/events/webclass-graceful-holidays-in-challenging-times-121720
 /
URL:https://www.hoffmaninstitute.ca/events/webclass-graceful-holidays-in-challenging-times-121720/
END:VEVENT
END:VCALENDAR