BEGIN:VCALENDAR
VERSION:2.0
PRODID:-//eventon.com NONSGML v1.0//EN
CALSCALE:GREGORIAN
METHOD:PUBLISH
BEGIN:VEVENT
UID:69e7010c8cc99
DTSTAMP:20260421T044604Z
DTSTART:20200514T120000Z
DTEND:20200514T131500Z
LOCATION:
SUMMARY:TELECLASS: Cultivating Presence
DESCRIPTION:Cultivating Presence Note new teleclass time by popular demand!
  Two aspects of our Quadrinity live in the present: the body and the spirit
 ual self; whereas the emotional self and intellect go forward and backward 
 in time\,  fretting about the future and regretting the past. Join this cal
 l and explore what[..]\nhttps://www.hoffmaninstitute.ca/events/teleclass-cu
 ltivating-presence-051420/
URL:https://www.hoffmaninstitute.ca/events/teleclass-cultivating-presence-051420/
END:VEVENT
END:VCALENDAR