BEGIN:VCALENDAR
VERSION:2.0
PRODID:-//eventon.com NONSGML v1.0//EN
CALSCALE:GREGORIAN
METHOD:PUBLISH
BEGIN:VEVENT
UID:69e9f79937e83
DTSTAMP:20260423T104233Z
DTSTART:20200709T170000Z
DTEND:20200709T183000Z
LOCATION:
SUMMARY:WEBCLASS: Navigating Grief & Loss (Part 2)
DESCRIPTION:WEBCLASS: Navigating Grief & Loss (Part 2) Registration is now 
 closed. Grief happens. It has many forms and we all experience it different
 ly. In this 2-part webclass\,  we will talk about how people grieve as a na
 tural response to loss. We will also explore how to take care of our[..]\nh
 ttps://www.hoffmaninstitute.ca/events/webclass-navigating-grief-loss-part-2
 -070920/
URL:https://www.hoffmaninstitute.ca/events/webclass-navigating-grief-loss-part-2-070920/
END:VEVENT
END:VCALENDAR