BEGIN:VCALENDAR
VERSION:2.0
PRODID:-//eventon.com NONSGML v1.0//EN
CALSCALE:GREGORIAN
METHOD:PUBLISH
BEGIN:VEVENT
UID:69e737a4dc29e
DTSTAMP:20260421T083900Z
DTSTART:20200312T170000Z
DTEND:20200312T181500Z
LOCATION:
SUMMARY:WEBINAR: Compassionate & Courageous Aging\,  Part 1 (a two-part series)
DESCRIPTION:Compassionate & Courageous Aging\,  Part 1 (a two-part series)
  Living from your Spiritual Self is a courageous practice at any age. As we
  grow older our exercise and dietary needs shift in order to stay vibrant a
 nd resilient\,  and so does our need for compassionate awareness and action
  toward transforming patterns[..]\nhttps://www.hoffmaninstitute.ca/events/w
 ebinar-compasionate-courageous-aging-part1-031220/
URL:https://www.hoffmaninstitute.ca/events/webinar-compasionate-courageous-aging-part1-031220/
END:VEVENT
END:VCALENDAR