BEGIN:VCALENDAR
VERSION:2.0
PRODID:-//eventon.com NONSGML v1.0//EN
CALSCALE:GREGORIAN
METHOD:PUBLISH
BEGIN:VEVENT
UID:69e8a18450d57
DTSTAMP:20260422T102300Z
DTSTART:20190807T170000Z
DTEND:20190807T181500Z
LOCATION:
SUMMARY:TELECLASS: Mastering Recycling
DESCRIPTION:Mastering Recycling: Creating Your “New Normal” Recycling i
 s the tool that will move you forward\,  into your “new normal” way of 
 being\,  in all areas of your life. We designed this class to support gradu
 ates in fully integrating recycling into their lives. This class will take 
 you through the basics[..]\nhttps://www.hoffmaninstitute.ca/events/masterin
 g-recycling-2/
URL:https://www.hoffmaninstitute.ca/events/mastering-recycling-2/
END:VEVENT
END:VCALENDAR