BEGIN:VCALENDAR
VERSION:2.0
PRODID:-//eventon.com NONSGML v1.0//EN
CALSCALE:GREGORIAN
METHOD:PUBLISH
BEGIN:VEVENT
UID:69eb47047e308
DTSTAMP:20260424T103340Z
DTSTART:20230519T000000Z
DTEND:20230519T011500Z
LOCATION:
SUMMARY:WEBCLASS: Living Your Vision
DESCRIPTION:Living Your Vision By creating a vision for your life\,  you ar
 e taking action to create a more fulfilling and authentic life. In this web
 class\,  you’ll learn how to: Invoke and hear your Spirit’s guidance Co
 ntinue to clarify your vision Take action on your Spiritual path Bring your
  deepest intentions[..]\nhttps://www.hoffmaninstitute.ca/events/webclass-li
 ving-your-vision-051823/
URL:https://www.hoffmaninstitute.ca/events/webclass-living-your-vision-051823/
END:VEVENT
END:VCALENDAR