BEGIN:VCALENDAR
VERSION:2.0
PRODID:-//eventon.com NONSGML v1.0//EN
CALSCALE:GREGORIAN
METHOD:PUBLISH
BEGIN:VEVENT
UID:69e889756471b
DTSTAMP:20260422T084021Z
DTSTART:20230215T010000Z
DTEND:20230215T021500Z
LOCATION:
SUMMARY:WEBCLASS: Relationship as a Spiritual Path
DESCRIPTION:Relationship as a Spiritual Path We are blessed when we are in 
 a relationship. When we fall in love\,  perhaps we are not blind\,  but we 
 are actually seeing the Spiritual Self of our beloved. And then our pattern
 s get in a dance and dynamics become habitual. Being committed to[..]\nhttp
 s://www.hoffmaninstitute.ca/events/webclass-relationship-as-a-spiritual-pat
 h-021423/
URL:https://www.hoffmaninstitute.ca/events/webclass-relationship-as-a-spiritual-path-021423/
END:VEVENT
END:VCALENDAR