BEGIN:VCALENDAR
VERSION:2.0
PRODID:-//eventon.com NONSGML v1.0//EN
CALSCALE:GREGORIAN
METHOD:PUBLISH
BEGIN:VEVENT
UID:69e79b907507d
DTSTAMP:20260421T154520Z
DTSTART:20220127T170000Z
DTEND:20220127T181500Z
LOCATION:
SUMMARY:WEBCLASS: Compassionate Boundaries
DESCRIPTION:Compassionate Boundaries Having compassion for self and others 
 includes having healthy boundaries. We will be exploring why this is import
 ant and what gets in the way so that we can live with our heart more fully 
 open to our self and to others.\nhttps://www.hoffmaninstitute.ca/events/web
 class-compassionate-boundaries-3/
URL:https://www.hoffmaninstitute.ca/events/webclass-compassionate-boundaries-3/
END:VEVENT
END:VCALENDAR