BEGIN:VCALENDAR
VERSION:2.0
PRODID:-//eventon.com NONSGML v1.0//EN
CALSCALE:GREGORIAN
METHOD:PUBLISH
BEGIN:VEVENT
UID:69e9f8c18032f
DTSTAMP:20260423T104729Z
DTSTART:20220315T170000Z
DTEND:20220315T181500Z
LOCATION:
SUMMARY:WEBCLASS: Practicing Compassion for Self & Others
DESCRIPTION:Practicing Compassion for Self &#038; Others So often in life\,
   when we are in pain or upset\,  rather than moving toward ourselves with 
 compassion and presence\,  we move away from ourselves. We may distract\,  
 ignore\,  shut down\,  numb with our addiction of choice\,  or even scold o
 urselves. We are deeply[..]\nhttps://www.hoffmaninstitute.ca/events/webclas
 s-practicing-compassion-for-self-others-3/
URL:https://www.hoffmaninstitute.ca/events/webclass-practicing-compassion-for-self-others-3/
END:VEVENT
END:VCALENDAR