BEGIN:VCALENDAR
VERSION:2.0
PRODID:-//eventon.com NONSGML v1.0//EN
CALSCALE:GREGORIAN
METHOD:PUBLISH
BEGIN:VEVENT
UID:69ea0c4116d31
DTSTAMP:20260423T121041Z
DTSTART:20220907T040000Z
DTEND:20220907T051500Z
LOCATION:
SUMMARY:WEBCLASS: Unlocking Your Creativity
DESCRIPTION:Webclass: Unlocking Your Creativity Bring out and express your 
 inner creator. Discover the joy that comes from letting your creative self 
 come out to play!\nhttps://www.hoffmaninstitute.ca/events/webclass-unlockin
 g-your-creativity-2/
URL:https://www.hoffmaninstitute.ca/events/webclass-unlocking-your-creativity-2/
END:VEVENT
END:VCALENDAR